BEGIN:VCALENDAR
VERSION:2.0
PRODID:-//Hopkinton Independent - ECPv6.15.20//NONSGML v1.0//EN
CALSCALE:GREGORIAN
METHOD:PUBLISH
X-WR-CALNAME:Hopkinton Independent
X-ORIGINAL-URL:https://hopkintonindependent.com
X-WR-CALDESC:Events for Hopkinton Independent
REFRESH-INTERVAL;VALUE=DURATION:PT1H
X-Robots-Tag:noindex
X-PUBLISHED-TTL:PT1H
BEGIN:VTIMEZONE
TZID:America/New_York
BEGIN:DAYLIGHT
TZOFFSETFROM:-0500
TZOFFSETTO:-0400
TZNAME:EDT
DTSTART:20210314T070000
END:DAYLIGHT
BEGIN:STANDARD
TZOFFSETFROM:-0400
TZOFFSETTO:-0500
TZNAME:EST
DTSTART:20211107T060000
END:STANDARD
BEGIN:DAYLIGHT
TZOFFSETFROM:-0500
TZOFFSETTO:-0400
TZNAME:EDT
DTSTART:20220313T070000
END:DAYLIGHT
BEGIN:STANDARD
TZOFFSETFROM:-0400
TZOFFSETTO:-0500
TZNAME:EST
DTSTART:20221106T060000
END:STANDARD
BEGIN:DAYLIGHT
TZOFFSETFROM:-0500
TZOFFSETTO:-0400
TZNAME:EDT
DTSTART:20230312T070000
END:DAYLIGHT
BEGIN:STANDARD
TZOFFSETFROM:-0400
TZOFFSETTO:-0500
TZNAME:EST
DTSTART:20231105T060000
END:STANDARD
BEGIN:DAYLIGHT
TZOFFSETFROM:-0500
TZOFFSETTO:-0400
TZNAME:EDT
DTSTART:20240310T070000
END:DAYLIGHT
BEGIN:STANDARD
TZOFFSETFROM:-0400
TZOFFSETTO:-0500
TZNAME:EST
DTSTART:20241103T060000
END:STANDARD
END:VTIMEZONE
BEGIN:VEVENT
DTSTART;TZID=America/New_York:20230816T180000
DTEND;TZID=America/New_York:20230816T200000
DTSTAMP:20260422T050208
CREATED:20230809T150139Z
LAST-MODIFIED:20230809T150139Z
UID:10000303-1692208800-1692216000@hopkintonindependent.com
SUMMARY:Cub Scouts Pack 4 Event Aug. 16
DESCRIPTION:Hopkinton Cub Scouts Pack 4\, for boys and girls in Grades K-5\, will host an event open to the public on Wednesday\, Aug. 16\, from 6-8 p.m. at the MetroWest YMCA Recreation Lodge (45 East Street). The event will include water bottle rocket launching\, rock climbing and ice cream\, and attendees can learn more about Cub Scouts. For more information\, visit the Pack 4 Facebook page @pack4hop.
URL:https://hopkintonindependent.com/event/cub-scouts-pack-4-event-aug-16/
LOCATION:Metrowest YMCA Outdoor Center\, Hopkinton\, 45 East Street\, Hopkinton\, MA\, 01748\, United States
ATTACH;FMTTYPE=image/png:https://hopkintonindependent.com/wp-content/uploads/2023/08/Ice-Cream-Social-23-Pack-4.png
END:VEVENT
BEGIN:VEVENT
DTSTART;TZID=America/New_York:20220518T183000
DTEND;TZID=America/New_York:20220518T193000
DTSTAMP:20260422T050208
CREATED:20220509T220048Z
LAST-MODIFIED:20220509T220048Z
UID:10000150-1652898600-1652902200@hopkintonindependent.com
SUMMARY:Hopkinton Cub Scouts host fishing event/info session May 18
DESCRIPTION:Hopkinton Cub Scouts will host a fishing event/information session on Wednesday\, May 18\, from 6:30-7:30 p.m. at Sandy Beach on Lake Maspenock. Attendees can bring their own rod or one will be provided. Instructors will teach fishing basics from 6:30-6:45 p.m.\, then participants can fish for the rest of the evening. While the kids are fishing\, parents can learn more about Hopkinton’s Cub Scout program (Pack 4 and Pack 97) for the coming year. For more information\, visit facebook.com/events/664506387979803/ or email tannenbaumb@gmail.com.
URL:https://hopkintonindependent.com/event/hopkinton-cub-scouts-host-fishing-event-info-session-may-18/
LOCATION:Sandy Beach\, 4 Lakeshore Drive\, Hopkinton\, MA\, 01748\, United States
ATTACH;FMTTYPE=image/jpeg:https://hopkintonindependent.com/wp-content/uploads/2022/05/Boy-Scouts-fishing.jpg
END:VEVENT
END:VCALENDAR