BEGIN:VCALENDAR
VERSION:2.0
PRODID:-//Hopkinton Independent - ECPv6.15.20//NONSGML v1.0//EN
CALSCALE:GREGORIAN
METHOD:PUBLISH
X-WR-CALNAME:Hopkinton Independent
X-ORIGINAL-URL:https://hopkintonindependent.com
X-WR-CALDESC:Events for Hopkinton Independent
REFRESH-INTERVAL;VALUE=DURATION:PT1H
X-Robots-Tag:noindex
X-PUBLISHED-TTL:PT1H
BEGIN:VTIMEZONE
TZID:America/New_York
BEGIN:DAYLIGHT
TZOFFSETFROM:-0500
TZOFFSETTO:-0400
TZNAME:EDT
DTSTART:20200308T070000
END:DAYLIGHT
BEGIN:STANDARD
TZOFFSETFROM:-0400
TZOFFSETTO:-0500
TZNAME:EST
DTSTART:20201101T060000
END:STANDARD
BEGIN:DAYLIGHT
TZOFFSETFROM:-0500
TZOFFSETTO:-0400
TZNAME:EDT
DTSTART:20210314T070000
END:DAYLIGHT
BEGIN:STANDARD
TZOFFSETFROM:-0400
TZOFFSETTO:-0500
TZNAME:EST
DTSTART:20211107T060000
END:STANDARD
BEGIN:DAYLIGHT
TZOFFSETFROM:-0500
TZOFFSETTO:-0400
TZNAME:EDT
DTSTART:20220313T070000
END:DAYLIGHT
BEGIN:STANDARD
TZOFFSETFROM:-0400
TZOFFSETTO:-0500
TZNAME:EST
DTSTART:20221106T060000
END:STANDARD
BEGIN:DAYLIGHT
TZOFFSETFROM:-0500
TZOFFSETTO:-0400
TZNAME:EDT
DTSTART:20230312T070000
END:DAYLIGHT
BEGIN:STANDARD
TZOFFSETFROM:-0400
TZOFFSETTO:-0500
TZNAME:EST
DTSTART:20231105T060000
END:STANDARD
END:VTIMEZONE
BEGIN:VEVENT
DTSTART;TZID=America/New_York:20221026T190000
DTEND;TZID=America/New_York:20221026T203000
DTSTAMP:20260422T014050
CREATED:20221016T225823Z
LAST-MODIFIED:20221016T230742Z
UID:10000202-1666810800-1666816200@hopkintonindependent.com
SUMMARY:St. Paul’s Paint Night Oct. 26
DESCRIPTION:Anyone looking for a creative outlet for their inner painter is invited to St. Paul’s Episcopal Church for Paint Night on Wednesday\, Oct. 26\, at 7 p.m. Artist Lena Shabalina will lead the activity. The fee is $25\, which includes supplies\, instruction and refreshments. Proceeds will go toward St. Paul’s Paint the Church Fund. Pre-registration\, which is required and due by Oct. 21\, consists of sending a check with the participant’s name and phone number to St. Paul’s Episcopal Church\, 61 Wood Street\, Hopkinton\, MA 01748. For more information\, call 508-435-4536 or visit stpaulhopkinton.org.
URL:https://hopkintonindependent.com/event/st-pauls-paint-night-oct-26/
LOCATION:St. Paul’s Episcopal Church\, 61 Wood Street\, Hopkinton\, MA\, 01748\, United States
ATTACH;FMTTYPE=image/jpeg:https://hopkintonindependent.com/wp-content/uploads/2021/07/St.-Pauls-Church.jpg
END:VEVENT
BEGIN:VEVENT
DTSTART;TZID=America/New_York:20211002T090000
DTEND;TZID=America/New_York:20211002T130000
DTSTAMP:20260422T014050
CREATED:20210914T122728Z
LAST-MODIFIED:20210914T122728Z
UID:10000071-1633165200-1633179600@hopkintonindependent.com
SUMMARY:St. Paul’s Rummage Sale Oct. 2
DESCRIPTION:The St. Paul’s Rummage Sale will be held Saturday\, Oct. 2\, from 9 a.m.-1 p.m. at the church (61 Wood St.). Among the articles for sale will be adult and children’s apparel and household items. Individuals can donate items to be sold from 5-7 p.m. on Wednesday\, Sept. 29\, and Friday\, Oct. 1. No stained clothing or items needing repair. Donated items must be accepted by a church worker during the drop-off times. For more information\, visit stpaulhopkinton.org or call 508-435-4536.
URL:https://hopkintonindependent.com/event/st-pauls-rummage-sale-oct-2/
LOCATION:St. Paul’s Episcopal Church\, 61 Wood Street\, Hopkinton\, MA\, 01748\, United States
ATTACH;FMTTYPE=image/jpeg:https://hopkintonindependent.com/wp-content/uploads/2021/07/St.-Pauls-Church.jpg
END:VEVENT
END:VCALENDAR